BEGIN:VCALENDAR
VERSION:2.0
PRODID:-//Beleve UK - ECPv6.15.20//NONSGML v1.0//EN
CALSCALE:GREGORIAN
METHOD:PUBLISH
X-ORIGINAL-URL:https://beleveuk.org
X-WR-CALDESC:Events for Beleve UK
REFRESH-INTERVAL;VALUE=DURATION:PT1H
X-Robots-Tag:noindex
X-PUBLISHED-TTL:PT1H
BEGIN:VTIMEZONE
TZID:UTC
BEGIN:STANDARD
TZOFFSETFROM:+0000
TZOFFSETTO:+0000
TZNAME:UTC
DTSTART:20240101T000000
END:STANDARD
END:VTIMEZONE
BEGIN:VEVENT
DTSTART;TZID=UTC:20250929T090000
DTEND;TZID=UTC:20250929T180000
DTSTAMP:20260420T134241
CREATED:20250711T130451Z
LAST-MODIFIED:20250915T151225Z
UID:33377-1759136400-1759168800@beleveuk.org
SUMMARY:Advertising  and Marketing Career Insight Day in partnership with Bloom x IPG Mediabrands
DESCRIPTION:The advertising and media landscape is made up of uniquely intertwined businesses creating an ecosystem that delivers value for clients. In 2024\, an estimated 65% of UK companies (3.5 million) spent £66.6 billion advertising their goods and services to help grow their businesses. On average\, £1 spent on advertising generates a profit ROI of £4.11 for medium-large businesses and £1.89 for micro small businesses. Advertising works! \nThe BelEve x Bloom AdLand Tour is an opportunity to learn and discover how advertising is created\, produced\, sold\, and delivered. We will kick off the day at the Advertising Association – the UK trade body for the ad industry – where we will hear from a leading recruiter on how to land your first role. Thereafter\, we will hit the road and visit a leading independent media agency\, a social first tech platform\, an award-winning creative agency\, and a media sales powerhouse. All of whom will share their career experiences and provide a deep dive as to how their organisations work. After a busy day\, we will end at DCM offices where they will show a private screening of a movie. \n\n\nLunch will be provided. \nDate: Monday\, 29th September 2025 \nTime: 9:00 AM – 6:00 PM \nTarget Audience: Young Women  18-23 \n\n\n\n\n\nPlease enable JavaScript in your browser to complete this form.Please enable JavaScript in your browser to complete this form.Name *FirstLastD.O.B *Email *Phone *Demographic & Diversity InformationEthnicity *--- Select Choice ---White BritishWhite IrishOther WhiteMixed/Multiple ethnic groupsIndianPakistaniBangladeshiChineseOther AsianAfricanCaribbeanOther BlackArabAny other ethnic groupGender Identity  *--- Select Choice ---MaleFemaleNon-binaryGenderqueerAgenderBigenderTwo-SpiritPrefer not to sayOtherDisability Status  *--- Select Choice ---No disabilityVisual impairmentHearing impairmentMobility impairmentCognitive impairmentChronic illnessMental health conditionMultiple disabilitiesPrefer not to sayEducation & Career InformationCurrent School/ College / University Name *Subjects Studied / Interests *Career Aspirations or Industry Interests *--- Select Choice ---Technology and Software DevelopmentHealthcare and Medical ServicesEducation and Academic ResearchFinance and BankingCreative Arts and DesignEngineering and ManufacturingHospitality and TourismLegal and Judicial ServicesMarketing and AdvertisingNonprofit and Social ServicesGovernment and Public AdministrationReal Estate and Property ManagementRetail and Consumer GoodsTransportation and LogisticsAgriculture and Environmental ScienceMedia and CommunicationsStartups and EntrepreneurshipArtificial Intelligence and Data ScienceCybersecurity and Network AdministrationHuman Resources and Organizational Developmentcareer aspirations or industryEmergency Contact & ConsentName *FirstLastEmail *Phone *		\n			Agreement Ethnicity Education\n			\n		\n		Signature *\n				\n					\n				\n				Clear Signature\n			 For under-16s\, consider a dual-signature system (participant + parent/guardian).Other Information Medical Info / Allergies  *How did you hear about this event? *Friend or colleagueSocial MediaWassapOtherIf other...Consent for Photos/Videos *--- Select Choice ---YesNoGDPR Agreement *I consent to having this website store my submitted information so they can respond to my inquiry.We are committed to protecting your personal information. All data collected in this form is stored securely and only used for the purpose of delivering and evaluating this programme. By submitting\, you agree to our privacy policy.Submit
URL:https://beleveuk.org/event/bloom-career-day-in-partnership-with-ipg-mediabrands/
CATEGORIES:Events
END:VEVENT
END:VCALENDAR