BEGIN:VCALENDAR
VERSION:2.0
PRODID:-//Beleve UK - ECPv6.15.20//NONSGML v1.0//EN
CALSCALE:GREGORIAN
METHOD:PUBLISH
X-WR-CALNAME:Beleve UK
X-ORIGINAL-URL:https://beleveuk.org
X-WR-CALDESC:Events for Beleve UK
REFRESH-INTERVAL;VALUE=DURATION:PT1H
X-Robots-Tag:noindex
X-PUBLISHED-TTL:PT1H
BEGIN:VTIMEZONE
TZID:UTC
BEGIN:STANDARD
TZOFFSETFROM:+0000
TZOFFSETTO:+0000
TZNAME:UTC
DTSTART:20210101T000000
END:STANDARD
END:VTIMEZONE
BEGIN:VEVENT
DTSTART;TZID=UTC:20250407T090000
DTEND;TZID=UTC:20250410T160000
DTSTAMP:20260420T232424
CREATED:20250315T200406Z
LAST-MODIFIED:20250411T141345Z
UID:32868-1744016400-1744300800@beleveuk.org
SUMMARY:BEAM Easter Camp 2025
DESCRIPTION:🌸 The BEAM Easter Camp 2025! 🐣✨ \nJoin us for an exciting Easter break filled with fun\, learning\, and empowerment at The BEAM Easter Camp! Designed for girls aged 8-11\, our camp offers a safe and inspiring space where they can build confidence\, make new friends\, and explore new skills through engaging activities\, leadership workshops\, creative arts\, sports\, mindfulness\, and exciting trips. 🎨💃🚀 \n💡 Sibling Discount Available! Get 20% OFF when registering more than one child – use code BEAM_20 at checkout! 🎟️✨ \n📅 Limited spaces available – Sign up now!\n🔗 Register here: https://beleveuk.org/beam-easter-camp/
URL:https://beleveuk.org/event/beam-easter-camp-2025/
CATEGORIES:Beam Academy,Beam Holiday Camp,Easter Camp
ATTACH;FMTTYPE=image/png:https://beleveuk.org/wp-content/uploads/2025/03/8.png
END:VEVENT
BEGIN:VEVENT
DTSTART;TZID=UTC:20220808T100000
DTEND;TZID=UTC:20220819T120000
DTSTAMP:20260420T232424
CREATED:20220707T164209Z
LAST-MODIFIED:20220707T164209Z
UID:8828-1659952800-1660910400@beleveuk.org
SUMMARY:BEAM Summer Activity Week
DESCRIPTION:Who says inspiring\, empowering and having fun has to end. \nIntroducing our BEAM Summer academy activity week \nCommencing virtually from Monday 8th August 2022- Friday 19th August 2022. \nBetween the hours of 10am and 12pm on Mondays\, Wednesdays & Fridays. \nYour daughter will have the chance to meet new girls\, whilst engaging in fun and exciting activities and games. \nThere is a £20 registration fee that covers all the days! \n[gravityform id=”41″ title=”true”]
URL:https://beleveuk.org/event/beam-summer-activity-week/
CATEGORIES:Beam Academy,Beam Holiday Camp,Events
ATTACH;FMTTYPE=image/png:https://beleveuk.org/wp-content/uploads/2022/07/20-Fee-3-1.png
END:VEVENT
END:VCALENDAR