BEGIN:VCALENDAR
VERSION:2.0
PRODID:-//Beleve UK - ECPv6.15.20//NONSGML v1.0//EN
CALSCALE:GREGORIAN
METHOD:PUBLISH
X-ORIGINAL-URL:https://beleveuk.org
X-WR-CALDESC:Events for Beleve UK
REFRESH-INTERVAL;VALUE=DURATION:PT1H
X-Robots-Tag:noindex
X-PUBLISHED-TTL:PT1H
BEGIN:VTIMEZONE
TZID:UTC
BEGIN:STANDARD
TZOFFSETFROM:+0000
TZOFFSETTO:+0000
TZNAME:UTC
DTSTART:20250101T000000
END:STANDARD
END:VTIMEZONE
BEGIN:VEVENT
DTSTART;TZID=UTC:20260312T170000
DTEND;TZID=UTC:20260312T200000
DTSTAMP:20260420T170736
CREATED:20260119T145442Z
LAST-MODIFIED:20260126T141104Z
UID:33723-1773334800-1773345600@beleveuk.org
SUMMARY:She Leads: Law with Simmons + Simmons
DESCRIPTION:We’re excited to be hosting an exclusive She Leads: Careers in Law evening in partnership with Simmons & Simmons\, giving young women the opportunity to step confidently into the corporate law industry. Simmons & Simmons is a leading international law firm committed to excellence\, innovation\, and widening access for the next generation of female leaders in law. \n🌟 On the evening you will: \n✨ Arrive and receive a warm welcome\nHear opening remarks and an introduction to the firm\, the legal industry\, and the purpose of the session. \n✨ Join an inspiring panel discussion\nBe part of an engaging conversation with professionals from Simmons & Simmons as they share their journeys into corporate law\, offer practical career advice\, and provide insight into working within the legal sector. \n✨ Connect during networking & refreshments\nMeet Simmons & Simmons colleagues and panellists\, ask questions\, and build meaningful connections in a relaxed environment. \nFood will be provided. \nThis event is designed to broaden horizons\, build confidence\, and show young women that they belong in corporate law and professional spaces \nPlease enable JavaScript in your browser to complete this form.Please enable JavaScript in your browser to complete this form.Name *FirstLastAge *This event is for 18+Email *Phone *Demographic & Diversity InformationEthnicity *--- Select Choice ---White BritishWhite IrishOther WhiteMixed/Multiple ethnic groupsIndianPakistaniBangladeshiChineseOther AsianAfricanCaribbeanOther BlackArabAny other ethnic groupGender Identity  *--- Select Choice ---MaleFemaleNon-binaryGenderqueerAgenderBigenderTwo-SpiritPrefer not to sayOther		\n			Interests Education Phone\n			\n		\n		Disability Status  *--- Select Choice ---No disabilityVisual impairmentHearing impairmentMobility impairmentCognitive impairmentChronic illnessMental health conditionMultiple disabilitiesPrefer not to sayEducation & Career InformationCurrent School/ College / University Name *Subjects Studied / Interests *Career Aspirations or Industry Interests *--- Select Choice ---Technology and Software DevelopmentHealthcare and Medical ServicesEducation and Academic ResearchFinance and BankingCreative Arts and DesignEngineering and ManufacturingHospitality and TourismLegal and Judicial ServicesMarketing and AdvertisingNonprofit and Social ServicesGovernment and Public AdministrationReal Estate and Property ManagementRetail and Consumer GoodsTransportation and LogisticsAgriculture and Environmental ScienceMedia and CommunicationsStartups and EntrepreneurshipArtificial Intelligence and Data ScienceCybersecurity and Network AdministrationHuman Resources and Organizational Developmentcareer aspirations or industryEmergency Contact & ConsentName *FirstLastEmail *Phone *Signature *\n				\n					\n				\n				Clear Signature\n			 For under-16s\, consider a dual-signature system (participant + parent/guardian).Do you have any Dietary requirementsPlease selectYesNoPlease list any Dietary Requirements *Please list any Medical Info / Allergies  *How did you hear about this event? *Friend or colleagueSocial MediaWhatsappOtherIf other...Consent for Photos/Videos *--- Select Choice ---YesNoGDPR Agreement *I consent to having this website store my submitted information so they can respond to my inquiry.We are committed to protecting your personal information. All data collected in this form is stored securely and only used for the purpose of delivering and evaluating this programme. By submitting\, you agree to our privacy policy.Submit
URL:https://beleveuk.org/event/she-leads-law-with-simmons-simmons/
LOCATION:Simmons & Simmons\, 1 Ropemaker St\, London\, EC2Y 9SS\, United Kingdom
CATEGORIES:Career Insight Days,Career Insight Days,Live Event
ATTACH;FMTTYPE=image/png:https://beleveuk.org/wp-content/uploads/2026/01/She_Leads_2026-4.png
END:VEVENT
BEGIN:VEVENT
DTSTART;TZID=UTC:20260328T110000
DTEND;TZID=UTC:20260328T130000
DTSTAMP:20260420T170736
CREATED:20260225T153022Z
LAST-MODIFIED:20260415T094604Z
UID:33819-1774695600-1774702800@beleveuk.org
SUMMARY:In Conversation with Angie Greeves
DESCRIPTION:Don’t miss this chance to meet Angie in person. It’ll be a relaxed and fun gathering where you can hear her stories\, ask questions\, and connect. \nCome hang out\, chat\, and enjoy a great time together. \nThis special live discussion will spotlight one of Britain’s most respected and enduring voices in broadcasting\, celebrating a remarkable 35-year career that has shaped the UK radio landscape. \nIn 1992\, Angie Greaves made history as the only Black female BreakfastDJ on London’s Choice FM radio\, breaking barriers and redefining representation in British media. From her early days at Choice FM to Magic and now Smooth Radio\, where she reaches 3.2 million weekly listeners (12 million monthly listeners)\, Angie has built a career defined by excellence\, authenticity\, and resilience. Today\, she stands as one of the longest-standing female radio presenters in the UK. \nInternational Women’s Day 2026 is a moment to celebrate not only achievement but endurance. Angie Greaves’ story is one of persistence\, evolution\, and cultural impact\, offering a blueprint for women building legacies across industries. Hosted at the House of MOBO and presented by Angie Greaves and BELEVE\, the event will bring together creatives\, entrepreneurs\, industry leaders\, and emerging talent for an inspiring and powerful discussion on leadership\, longevity\, and legacy. \nPurchase your tickets here
URL:https://beleveuk.org/event/in-conversation-with-angie-greeves/
CATEGORIES:Live Event
ATTACH;FMTTYPE=image/png:https://beleveuk.org/wp-content/uploads/2026/02/NEW-Angie-square.png
END:VEVENT
END:VCALENDAR