BEGIN:VCALENDAR
VERSION:2.0
PRODID:-//Beleve UK - ECPv6.15.20//NONSGML v1.0//EN
CALSCALE:GREGORIAN
METHOD:PUBLISH
X-ORIGINAL-URL:https://beleveuk.org
X-WR-CALDESC:Events for Beleve UK
REFRESH-INTERVAL;VALUE=DURATION:PT1H
X-Robots-Tag:noindex
X-PUBLISHED-TTL:PT1H
BEGIN:VTIMEZONE
TZID:UTC
BEGIN:STANDARD
TZOFFSETFROM:+0000
TZOFFSETTO:+0000
TZNAME:UTC
DTSTART:20250101T000000
END:STANDARD
END:VTIMEZONE
BEGIN:VEVENT
DTSTART;TZID=UTC:20260513T180000
DTEND;TZID=UTC:20260513T193000
DTSTAMP:20260423T095030
CREATED:20260422T135443Z
LAST-MODIFIED:20260422T135518Z
UID:34214-1778695200-1778700600@beleveuk.org
SUMMARY:Networking & Personal Branding
DESCRIPTION:The sixth instalment of the BelEve In Her Skills Series focuses on building confidence in networking and developing a strong personal brand.\nIn this workshop\, participants will explore the power of networking and the different ways it can take place\, from group settings to one-to-one meetings and online spaces.\nThey will learn how to build meaningful\, two-way relationships while overcoming common barriers such as lack of confidence or fear of rejection.\nThe session also highlights the power of LinkedIn in growing a professional presence\, alongside developing a personal brand that leaves a positive and lasting impression both online and in person.\n\nKey takeaways include:\n– Understanding the value and impact of networking\n– Exploring different types of networking and how to approach them\n– Building confidence to overcome barriers to networking\n– Using LinkedIn to grow visibility and professional presence\n– Developing a strong personal brand and making a positive impression\n\nAs the sixth instalment of the BelEve In Her Skills Series\, this workshop empowers young women to build meaningful connections\, strengthen their personal brand\, and confidently navigate professional spaces.\n\nPlease only sign up if you can attend\, this is an interactive session therefore you will be required to have your camera on\n\nPlease enable JavaScript in your browser to complete this form.Please enable JavaScript in your browser to complete this form.Name *FirstLastEmail *		\n			this photos/videos Consent\n			\n		\n		Phone *Which BelEve Mentee Cohort are you part of? *--- Select Choice ---Propel 3.1 (April 2025)Propel 3.2 (October 2025)Propel 3.3 (January 2026)Not currently a Menteecareer aspirations or industryWorkshop DetailsWhich workshop are you signing up for? *--- Select Choice ---Communication Skills & Emotional Intelligence (EQ)Adaptability & ResilienceProblem-Solving & Critical Thinking / Leadership & InfluenceJob Search Strategies & Interview SkillsTime Management & Personal ProductivityNetworking & Personal BrandingProfessional Etiquette & Workplace CultureConsent & ConfirmationI confirm my attendance for this workshop. *--- Select Choice ---YesNoI consent to photos/videos being taken during the session for BelEve’s communications  *--- Select Choice ---YesNoGDPR Agreement *I consent to having this website store my submitted information so they can respond to my inquiry.We are committed to protecting your personal information. All data collected in this form is stored securely and only used for the purpose of delivering and evaluating this programme. By submitting\, you agree to our privacy policy.Submit
URL:https://beleveuk.org/event/networking-personal-branding/
LOCATION:online
CATEGORIES:Skills Development Workshops,Workshops
ATTACH;FMTTYPE=image/jpeg:https://beleveuk.org/wp-content/uploads/2025/10/IMG_4922-scaled-e1760102181111.jpg
END:VEVENT
END:VCALENDAR