BEGIN:VCALENDAR
VERSION:2.0
PRODID:-//Beleve UK - ECPv6.15.20//NONSGML v1.0//EN
CALSCALE:GREGORIAN
METHOD:PUBLISH
X-WR-CALNAME:Beleve UK
X-ORIGINAL-URL:https://beleveuk.org
X-WR-CALDESC:Events for Beleve UK
REFRESH-INTERVAL;VALUE=DURATION:PT1H
X-Robots-Tag:noindex
X-PUBLISHED-TTL:PT1H
BEGIN:VTIMEZONE
TZID:UTC
BEGIN:STANDARD
TZOFFSETFROM:+0000
TZOFFSETTO:+0000
TZNAME:UTC
DTSTART:20250101T000000
END:STANDARD
END:VTIMEZONE
BEGIN:VEVENT
DTSTART;TZID=UTC:20260319T180000
DTEND;TZID=UTC:20260319T193000
DTSTAMP:20260423T111328
CREATED:20251218T150155Z
LAST-MODIFIED:20251218T150401Z
UID:33675-1773943200-1773948600@beleveuk.org
SUMMARY:BelEve In Her Skills: Job Search Strategies & Interview Skills
DESCRIPTION:The fourth installment of the BelEve In Her Skills Series focuses on helping participants confidently navigate the job search process and perform strongly in interviews. \nIn this workshop\, participants will learn effective job search strategies\, including how to use job boards\, build networks\, and leverage LinkedIn and other professional platforms to connect with opportunities. The session also explores common interview formats — such as panel\, virtual\, and case-based interviews — so participants know what to expect and how to prepare. \nA key component of the workshop is developing strong interview responses using the STAR method (Situation\, Task\, Action\, Result). Participants will then take part in mock interviews\, receiving constructive feedback to build confidence\, refine their answers\, and strengthen their interview presence. \nKey takeaways include: \n\n\nUsing job boards and networking to access opportunities \n\n\nLeveraging LinkedIn and professional platforms effectively \n\n\nUnderstanding different interview formats \n\n\nStructuring confident responses using the STAR method \n\n\nPracticing interviews with feedback and guidance \n\n\nAs the fourth installment of the BelEve In Her Skills Series\, this workshop empowers young women to articulate their strengths\, approach opportunities with confidence\, and believe in the skills they already have. \nPlease enable JavaScript in your browser to complete this form.Please enable JavaScript in your browser to complete this form.Name *FirstLastEmail *Phone *Which BelEve Mentee Cohort are you part of? *--- Select Choice ---Propel 3.1 (April 2025)Propel 3.2 (October 2025)Propel 3.3 (January 2026)Not currently a Menteecareer aspirations or industryWorkshop DetailsWhich workshop are you signing up for? *--- Select Choice ---Communication Skills & Emotional Intelligence (EQ)Adaptability & ResilienceProblem-Solving & Critical Thinking / Leadership & InfluenceJob Search Strategies & Interview SkillsTime Management & Personal ProductivityNetworking & Personal BrandingProfessional Etiquette & Workplace CultureConsent & ConfirmationI confirm my attendance for this workshop. *--- Select Choice ---YesNoI consent to photos/videos being taken during the session for BelEve’s communications  *--- Select Choice ---YesNo		\n			Mentee Workshop you\n			\n		\n		GDPR Agreement *I consent to having this website store my submitted information so they can respond to my inquiry.We are committed to protecting your personal information. All data collected in this form is stored securely and only used for the purpose of delivering and evaluating this programme. By submitting\, you agree to our privacy policy.Submit
URL:https://beleveuk.org/event/beleve-in-her-skills-job-search-strategies-interview-skills/
LOCATION:online
CATEGORIES:Skills Development Workshops
ATTACH;FMTTYPE=image/jpeg:https://beleveuk.org/wp-content/uploads/2017/12/online-workshop-1.jpg
END:VEVENT
END:VCALENDAR